BEGIN:VCALENDAR
VERSION:2.0
PRODID:-//jEvents 2.0 for Joomla//EN
CALSCALE:GREGORIAN
METHOD:PUBLISH
BEGIN:VEVENT
UID:d249e2bdec7425515dce14879a598744
CATEGORIES:TSV Veranstaltungen
CREATED:20251213T065902
SUMMARY:Tischtennis Kreisliga B: TSV Berkheim - VfB Oberesslingen/Zell II
DESCRIPTION:
DTSTAMP:20260421T092818
DTSTART:20260214T163000
SEQUENCE:0
TRANSP:OPAQUE
END:VEVENT
END:VCALENDAR