BEGIN:VCALENDAR
VERSION:2.0
PRODID:-//jEvents 2.0 for Joomla//EN
CALSCALE:GREGORIAN
METHOD:PUBLISH
BEGIN:VEVENT
UID:2fbd0b0088cf0317cf162a555a48753f
CATEGORIES:TSV Veranstaltungen
CREATED:20251102T045600
SUMMARY:Laternenlauf (Treff: Parkplatz Osterfeldhalle)
DESCRIPTION:
DTSTAMP:20260423T191300
DTSTART:20251107T170000
SEQUENCE:0
TRANSP:OPAQUE
END:VEVENT
END:VCALENDAR