BEGIN:VCALENDAR
VERSION:2.0
PRODID:-//jEvents 2.0 for Joomla//EN
CALSCALE:GREGORIAN
METHOD:PUBLISH
BEGIN:VEVENT
UID:9c1a8a4502a14dd629c0b12599f1c5f6
CATEGORIES:Radsport
CREATED:20150215T152450
SUMMARY:Racetraining
LOCATION:OSP Stuttgart 
DESCRIPTION:Racetraining im OSP\n
X-ALT-DESC;FMTTYPE=text/html:<p><span style="color: #000000;">Racetraining im OSP</span></p>
DTSTAMP:20260421T115414
DTSTART:20150416T160000
DTEND:20150416T180000
SEQUENCE:0
TRANSP:OPAQUE
END:VEVENT
END:VCALENDAR