BEGIN:VCALENDAR
VERSION:2.0
PRODID:-//jEvents 2.0 for Joomla//EN
CALSCALE:GREGORIAN
METHOD:PUBLISH
BEGIN:VEVENT
UID:2586e2590a859128b1af872f8b725b9c
CATEGORIES:Radsport
CREATED:20150215T173510
SUMMARY:BMX Beginnerscup
LOCATION:Ingersheim
DESCRIPTION:<p>BMX Beginnerscup</p>
CONTACT:http://www.wrsv.de/bmx-4cross/2014-03-12-09-17-40/108-bmx-termine-veranstaltungen/359-termine-baden-wuerttemberg-cup-mit
DTSTAMP:20260423T193358
DTSTART;VALUE=DATE:20151004
DTEND;VALUE=DATE:20151005
SEQUENCE:0
TRANSP:OPAQUE
END:VEVENT
END:VCALENDAR