BEGIN:VCALENDAR
VERSION:2.0
PRODID:-//jEvents 2.0 for Joomla//EN
CALSCALE:GREGORIAN
METHOD:PUBLISH
BEGIN:VEVENT
UID:f380791d5d1086969f3e8778aba2c70e
CATEGORIES:Radsport
CREATED:20150215T173144
SUMMARY:BMX Beginnerscup
LOCATION:Bönnigheim
DESCRIPTION:BMX Beginnerscup\n
X-ALT-DESC;FMTTYPE=text/html:<p>BMX Beginnerscup</p>
CONTACT:http://www.wrsv.de/bmx-4cross/2014-03-12-09-17-40/108-bmx-termine-veranstaltungen/359-termine-baden-wuerttemberg-cup-mit
DTSTAMP:20260423T140639
DTSTART;VALUE=DATE:20150920
DTEND;VALUE=DATE:20150921
SEQUENCE:0
TRANSP:OPAQUE
END:VEVENT
END:VCALENDAR