BEGIN:VCALENDAR
VERSION:2.0
PRODID:-//jEvents 2.0 for Joomla//EN
CALSCALE:GREGORIAN
METHOD:PUBLISH
BEGIN:VEVENT
UID:f8feae7a82c3eaf19e6f1ee04972a90b
CATEGORIES:Radsport
CREATED:20150215T172844
SUMMARY:Swiss 4 X Cup
LOCATION:Liebstadt (GC)
DESCRIPTION:Swiss 4 X Cup\n
X-ALT-DESC;FMTTYPE=text/html:<p>Swiss 4 X Cup</p>
CONTACT:http://www.4cross.ch/4cross_j2v5/ (http://www.4cross.ch/4cross_j2v5/)
DTSTAMP:20260421T142021
DTSTART;VALUE=DATE:20150913
DTEND;VALUE=DATE:20150914
SEQUENCE:0
TRANSP:OPAQUE
END:VEVENT
END:VCALENDAR