BEGIN:VCALENDAR
VERSION:2.0
PRODID:-//jEvents 2.0 for Joomla//EN
CALSCALE:GREGORIAN
METHOD:PUBLISH
BEGIN:VEVENT
UID:04caba246465e33021e8ebe98d7f47c7
CATEGORIES:Radsport
CREATED:20150215T172740
SUMMARY:4 X Pro Tour
LOCATION:Malmedy - BE
DESCRIPTION:<p>4 X Pro Tour</p>
CONTACT:http://www.4xprotour.com/ (http://www.4xprotour.com/)
DTSTAMP:20260425T165554
DTSTART;VALUE=DATE:20150905
DTEND;VALUE=DATE:20150906
SEQUENCE:0
TRANSP:OPAQUE
END:VEVENT
END:VCALENDAR