BEGIN:VCALENDAR
VERSION:2.0
PRODID:-//jEvents 2.0 for Joomla//EN
CALSCALE:GREGORIAN
METHOD:PUBLISH
BEGIN:VEVENT
UID:1ce383d270bcecb7388f6646c42143f6
CATEGORIES:Radsport
CREATED:20150215T171849
SUMMARY:4 X Pro Tour /WM
LOCATION:Jablonec
DESCRIPTION:4 X Pro Tour /WM\n
X-ALT-DESC;FMTTYPE=text/html:<p>4 X Pro Tour /WM</p>
CONTACT:http://www.4xprotour.com/ (http://www.4xprotour.com/)
DTSTAMP:20260423T140628
DTSTART;VALUE=DATE:20150725
DTEND;VALUE=DATE:20150726
SEQUENCE:0
TRANSP:OPAQUE
END:VEVENT
END:VCALENDAR