BEGIN:VCALENDAR
VERSION:2.0
PRODID:-//jEvents 2.0 for Joomla//EN
CALSCALE:GREGORIAN
METHOD:PUBLISH
BEGIN:VEVENT
UID:fb77b078ffff0f3338bea8153707ee9e
CATEGORIES:Radsport
CREATED:20150215T171721
SUMMARY:4 X Mitteldeutscher Cup
LOCATION:Neubrandenburg
DESCRIPTION:<p>4 X Mitteldeutscher Cup</p>
CONTACT:http://www.mtb-news.de/news/2014/12/29/mdc-termine-2015/
DTSTAMP:20260423T182417
DTSTART;VALUE=DATE:20150725
DTEND;VALUE=DATE:20150726
SEQUENCE:0
TRANSP:OPAQUE
END:VEVENT
END:VCALENDAR