BEGIN:VCALENDAR
VERSION:2.0
PRODID:-//jEvents 2.0 for Joomla//EN
CALSCALE:GREGORIAN
METHOD:PUBLISH
BEGIN:VEVENT
UID:60078fb47ef87018360b41c212b48733
CATEGORIES:Radsport
CREATED:20150215T171620
SUMMARY:4 X Pro Tour
LOCATION:Sczawno - POL
DESCRIPTION:4 X Pro Tour\n
X-ALT-DESC;FMTTYPE=text/html:<p>4 X Pro Tour</p>
CONTACT:http://www.4xprotour.com/ (http://www.4xprotour.com/)
DTSTAMP:20260421T190849
DTSTART;VALUE=DATE:20150718
DTEND;VALUE=DATE:20150719
SEQUENCE:0
TRANSP:OPAQUE
END:VEVENT
END:VCALENDAR