BEGIN:VCALENDAR
VERSION:2.0
PRODID:-//jEvents 2.0 for Joomla//EN
CALSCALE:GREGORIAN
METHOD:PUBLISH
BEGIN:VEVENT
UID:d9c0719f1788dac1c45232e6586aa8b7
CATEGORIES:Radsport
CREATED:20150215T170410
SUMMARY:BMX Beginnerscup
LOCATION:Bühlertal
DESCRIPTION:<p>BMX Beginnerscup</p>
CONTACT:http://www.wrsv.de/bmx-4cross/2014-03-12-09-17-40/108-bmx-termine-veranstaltungen/359-termine-baden-wuerttemberg-cup-mit
DTSTAMP:20260421T220932
DTSTART;VALUE=DATE:20150628
DTEND;VALUE=DATE:20150629
SEQUENCE:0
TRANSP:OPAQUE
END:VEVENT
END:VCALENDAR