BEGIN:VCALENDAR
VERSION:2.0
PRODID:-//jEvents 2.0 for Joomla//EN
CALSCALE:GREGORIAN
METHOD:PUBLISH
BEGIN:VEVENT
UID:035a8a27210d63bfc458825c85d9c12f
CATEGORIES:Radsport
CREATED:20150215T165954
SUMMARY:4 X Mitteldeutscher Cup
LOCATION:Waldsassen
DESCRIPTION:4 X Mitteldeutscher Cup\n
X-ALT-DESC;FMTTYPE=text/html:<p>4 X Mitteldeutscher Cup</p>
CONTACT:http://www.mtb-news.de/news/2014/12/29/mdc-termine-2015/
DTSTAMP:20260423T161228
DTSTART:20150613T060000
DTEND:20150614T150000
SEQUENCE:0
TRANSP:OPAQUE
END:VEVENT
END:VCALENDAR