BEGIN:VCALENDAR
VERSION:2.0
PRODID:-//jEvents 2.0 for Joomla//EN
CALSCALE:GREGORIAN
METHOD:PUBLISH
BEGIN:VEVENT
UID:8c7ae7bba64e4ad4741e50595e73afa1
CATEGORIES:Radsport
CREATED:20150215T165822
SUMMARY:BMX Beginnerscup
LOCATION:Bühlertann
DESCRIPTION:BMX Beginnerscup\n
X-ALT-DESC;FMTTYPE=text/html:<p>BMX Beginnerscup</p>
CONTACT:http://www.wrsv.de/bmx-4cross/2014-03-12-09-17-40/108-bmx-termine-veranstaltungen/359-termine-baden-wuerttemberg-cup-mit
DTSTAMP:20260423T140812
DTSTART;VALUE=DATE:20150607
DTEND;VALUE=DATE:20150608
SEQUENCE:0
TRANSP:OPAQUE
END:VEVENT
END:VCALENDAR