BEGIN:VCALENDAR
VERSION:2.0
PRODID:-//jEvents 2.0 for Joomla//EN
CALSCALE:GREGORIAN
METHOD:PUBLISH
BEGIN:VEVENT
UID:d4ddea50b86177638e41a50984ea5b0e
CATEGORIES:Radsport
CREATED:20150215T165657
SUMMARY:4 X Pro Tour
LOCATION:Fort William GB
DESCRIPTION:4 X Pro Tour\n
X-ALT-DESC;FMTTYPE=text/html:<p>4 X Pro Tour</p>
CONTACT:http://www.4xprotour.com/ (http://www.4xprotour.com/)
DTSTAMP:20260421T142021
DTSTART;VALUE=DATE:20150606
DTEND;VALUE=DATE:20150607
SEQUENCE:0
TRANSP:OPAQUE
END:VEVENT
END:VCALENDAR