BEGIN:VCALENDAR
VERSION:2.0
PRODID:-//jEvents 2.0 for Joomla//EN
CALSCALE:GREGORIAN
METHOD:PUBLISH
BEGIN:VEVENT
UID:8e503350353bf006656ad19261aa758b
CATEGORIES:Radsport
CREATED:20150215T165533
SUMMARY:4 X Mitteldeutscher Cup
LOCATION:Pößneck
DESCRIPTION:<p>4 X Mitteldeutscher Cup</p>
CONTACT:http://www.mtb-news.de/news/2014/12/29/mdc-termine-2015/
DTSTAMP:20260425T165511
DTSTART;VALUE=DATE:20150531
DTEND;VALUE=DATE:20150601
SEQUENCE:0
TRANSP:OPAQUE
END:VEVENT
END:VCALENDAR