BEGIN:VCALENDAR
VERSION:2.0
PRODID:-//jEvents 2.0 for Joomla//EN
CALSCALE:GREGORIAN
METHOD:PUBLISH
BEGIN:VEVENT
UID:1a17dcd6cd82ffcd1a1a739fc10b8644
CATEGORIES:Radsport
CREATED:20150215T165104
SUMMARY:4 X Mitteldeutscher Cup
LOCATION:Stollberg
DESCRIPTION:4 X Mitteldeutscher Cup\n
X-ALT-DESC;FMTTYPE=text/html:<p>4 X Mitteldeutscher Cup</p>
CONTACT:http://www.mtb-news.de/news/2014/12/29/mdc-termine-2015/
DTSTAMP:20260423T181231
DTSTART;VALUE=DATE:20150517
DTEND;VALUE=DATE:20150518
SEQUENCE:0
TRANSP:OPAQUE
END:VEVENT
END:VCALENDAR