BEGIN:VCALENDAR
VERSION:2.0
PRODID:-//jEvents 2.0 for Joomla//EN
CALSCALE:GREGORIAN
METHOD:PUBLISH
BEGIN:VEVENT
UID:83044513fd6ad691110ee644f81bd254
CATEGORIES:Radsport
CREATED:20150215T164307
SUMMARY:Süddeutscher 4 X Cup /Plus WM
LOCATION:Reutlingen
DESCRIPTION:Süddeutscher 4 X Cup /Plus WM\n
X-ALT-DESC;FMTTYPE=text/html:<p>Süddeutscher 4 X Cup /Plus WM</p>
CONTACT:http://www.wrsv.de/bmx-4cross/4-cross (http://www.wrsv.de/bmx-4cross/4-cross)
DTSTAMP:20260421T184551
DTSTART;VALUE=DATE:20150501
DTEND;VALUE=DATE:20150503
SEQUENCE:0
TRANSP:OPAQUE
END:VEVENT
END:VCALENDAR