BEGIN:VCALENDAR
VERSION:2.0
PRODID:-//jEvents 2.0 for Joomla//EN
CALSCALE:GREGORIAN
METHOD:PUBLISH
BEGIN:VEVENT
UID:ee422d6cd609e9bd639c79bb06ab92a6
CATEGORIES:Radsport
CREATED:20150215T164054
SUMMARY:Racetraining
LOCATION:OSP Stuttgart
DESCRIPTION:Racetraining\n
X-ALT-DESC;FMTTYPE=text/html:<p>Racetraining</p>
DTSTAMP:20260423T155542
DTSTART:20150430T160000
DTEND:20150430T180000
SEQUENCE:0
TRANSP:OPAQUE
END:VEVENT
END:VCALENDAR