BEGIN:VCALENDAR
VERSION:2.0
PRODID:-//jEvents 2.0 for Joomla//EN
CALSCALE:GREGORIAN
METHOD:PUBLISH
BEGIN:VEVENT
UID:1974b293ca92911925b04cb0c471bef3
CATEGORIES:Radsport
CREATED:20150215T163915
SUMMARY:Hallentraining
LOCATION:Sporthalle Schillerschule
DESCRIPTION:<p>Hallentraining für alle</p>
DTSTAMP:20260421T120835
DTSTART:20150425T080000
DTEND:20150425T100000
SEQUENCE:0
TRANSP:OPAQUE
END:VEVENT
END:VCALENDAR