BEGIN:VCALENDAR
VERSION:2.0
PRODID:-//jEvents 2.0 for Joomla//EN
CALSCALE:GREGORIAN
METHOD:PUBLISH
BEGIN:VEVENT
UID:789fc8ae062285406071343efde842ad
CATEGORIES:Radsport
CREATED:20150215T161049
SUMMARY:Racetraining
LOCATION:OSP Stuttgart
DESCRIPTION:Racetraining\n
X-ALT-DESC;FMTTYPE=text/html:<p>Racetraining</p>
DTSTAMP:20260421T092603
DTSTART:20150418T160000
DTEND:20150418T180000
SEQUENCE:0
TRANSP:OPAQUE
END:VEVENT
END:VCALENDAR