BEGIN:VCALENDAR
VERSION:2.0
PRODID:-//jEvents 2.0 for Joomla//EN
CALSCALE:GREGORIAN
METHOD:PUBLISH
BEGIN:VEVENT
UID:a4aeb6bd5603dc5cf13f3d1e55fd996d
CATEGORIES:Radsport
CREATED:20150215T160608
SUMMARY:BMX Beginnerscup
LOCATION:Kornwestheim
DESCRIPTION:BMX Beginnerscup\n
X-ALT-DESC;FMTTYPE=text/html:<p>BMX Beginnerscup</p>
CONTACT:http://www.wrsv.de/bmx-4cross/2014-03-12-09-17-40/108-bmx-termine-veranstaltungen/359-termine-baden-wuerttemberg-cup-mit
DTSTAMP:20260419T135734
DTSTART;VALUE=DATE:20150329
DTEND;VALUE=DATE:20150330
SEQUENCE:0
TRANSP:OPAQUE
END:VEVENT
END:VCALENDAR