BEGIN:VCALENDAR
VERSION:2.0
PRODID:-//jEvents 2.0 for Joomla//EN
CALSCALE:GREGORIAN
METHOD:PUBLISH
BEGIN:VEVENT
UID:2d475081d477a3ed6feb594fe355ea9d
CATEGORIES:Radsport
CREATED:20150215T160147
SUMMARY:Hallentraining
LOCATION:Sporthalle Schillerschule
DESCRIPTION:Hallentraining für alle\n
X-ALT-DESC;FMTTYPE=text/html:<p>Hallentraining für alle</p>
DTSTAMP:20260419T115759
DTSTART:20150328T090000
DTEND:20150328T110000
SEQUENCE:0
TRANSP:OPAQUE
END:VEVENT
END:VCALENDAR