BEGIN:VCALENDAR
VERSION:2.0
PRODID:-//jEvents 2.0 for Joomla//EN
CALSCALE:GREGORIAN
METHOD:PUBLISH
BEGIN:VEVENT
UID:2de1a5d043cbb54749f88a5d010705d3
CATEGORIES:Radsport
CREATED:20150215T155043
SUMMARY:Hallentraining
LOCATION:Sporthalle Schillerschule
DESCRIPTION:Hallentraining für alle\n
X-ALT-DESC;FMTTYPE=text/html:<p>Hallentraining für alle</p>
DTSTAMP:20260419T140837
DTSTART:20150228T090000
DTEND:20150228T110000
SEQUENCE:0
TRANSP:OPAQUE
END:VEVENT
END:VCALENDAR