BEGIN:VCALENDAR
VERSION:2.0
PRODID:-//jEvents 2.0 for Joomla//EN
CALSCALE:GREGORIAN
METHOD:PUBLISH
BEGIN:VEVENT
UID:40de7c00ca858c4ec81600aef290359f
CATEGORIES:Radsport
CREATED:20150215T154235
SUMMARY:Abteilungsversammlung
LOCATION:Waldheim Berkheim
DESCRIPTION:Abteilungsversammlung bitte alle erscheinen!!!\n
X-ALT-DESC;FMTTYPE=text/html:<p>Abteilungsversammlung <span style="text-decoration: underline;"><strong>
 <span style="color: #ff0000; text-decoration: underline;">bitte alle ersche
 inen!!!</span></strong></span></p>
DTSTAMP:20260421T090153
DTSTART:20150225T180000
DTEND:20150225T200000
SEQUENCE:0
TRANSP:OPAQUE
END:VEVENT
END:VCALENDAR