BEGIN:VCALENDAR
VERSION:2.0
PRODID:-//jEvents 2.0 for Joomla//EN
CALSCALE:GREGORIAN
METHOD:PUBLISH
BEGIN:VEVENT
UID:9c1a8a4502a14dd629c0b12599f1c5f6
CATEGORIES:Radsport
CREATED:19700101T010000
SUMMARY:Racetraining
LOCATION:OSP Stuttgart 
DESCRIPTION:Racetraining im OSP\n
X-ALT-DESC;FMTTYPE=text/html:<p><span style="color: #000000;">Racetraining im OSP</span></p>
DTSTAMP:20260419T115809
DTSTART:20150212T170000
DTEND:20150212T190000
SEQUENCE:0
RRULE:FREQ=WEEKLY;UNTIL=20150501T000000Z;INTERVAL=1;BYDAY=TH
EXDATE:20150402T160000,20150409T160000
TRANSP:OPAQUE
END:VEVENT
END:VCALENDAR