BEGIN:VCALENDAR
VERSION:2.0
PRODID:-//jEvents 2.0 for Joomla//EN
CALSCALE:GREGORIAN
METHOD:PUBLISH
BEGIN:VEVENT
UID:0c252c4d0dabfbfbddbfeaea74c59942
CATEGORIES:Ausgleichssport
CREATED:20251025T115601
SUMMARY:Blüten – und Frühjahrsausflug 2026
DESCRIPTION:
DTSTAMP:20260423T210104
DTSTART;VALUE=DATE:20260425
DTEND;VALUE=DATE:20260427
SEQUENCE:0
TRANSP:OPAQUE
END:VEVENT
END:VCALENDAR